BEGIN:VCALENDAR
VERSION:2.0
PRODID:-//Nuet Lab - ECPv6.15.20//NONSGML v1.0//EN
CALSCALE:GREGORIAN
METHOD:PUBLISH
X-WR-CALNAME:Nuet Lab
X-ORIGINAL-URL:https://nuetlab.com
X-WR-CALDESC:Eventos para Nuet Lab
REFRESH-INTERVAL;VALUE=DURATION:PT1H
X-Robots-Tag:noindex
X-PUBLISHED-TTL:PT1H
BEGIN:VTIMEZONE
TZID:Europe/Madrid
BEGIN:DAYLIGHT
TZOFFSETFROM:+0100
TZOFFSETTO:+0200
TZNAME:CEST
DTSTART:20250330T010000
END:DAYLIGHT
BEGIN:STANDARD
TZOFFSETFROM:+0200
TZOFFSETTO:+0100
TZNAME:CET
DTSTART:20251026T010000
END:STANDARD
BEGIN:DAYLIGHT
TZOFFSETFROM:+0100
TZOFFSETTO:+0200
TZNAME:CEST
DTSTART:20260329T010000
END:DAYLIGHT
BEGIN:STANDARD
TZOFFSETFROM:+0200
TZOFFSETTO:+0100
TZNAME:CET
DTSTART:20261025T010000
END:STANDARD
BEGIN:DAYLIGHT
TZOFFSETFROM:+0100
TZOFFSETTO:+0200
TZNAME:CEST
DTSTART:20270328T010000
END:DAYLIGHT
BEGIN:STANDARD
TZOFFSETFROM:+0200
TZOFFSETTO:+0100
TZNAME:CET
DTSTART:20271031T010000
END:STANDARD
BEGIN:DAYLIGHT
TZOFFSETFROM:+0100
TZOFFSETTO:+0200
TZNAME:CEST
DTSTART:20280326T010000
END:DAYLIGHT
BEGIN:STANDARD
TZOFFSETFROM:+0200
TZOFFSETTO:+0100
TZNAME:CET
DTSTART:20281029T010000
END:STANDARD
END:VTIMEZONE
BEGIN:VEVENT
DTSTART;TZID=Europe/Madrid:20260127T080000
DTEND;TZID=Europe/Madrid:20270131T170000
DTSTAMP:20260422T171840
CREATED:20260127T170504Z
LAST-MODIFIED:20260127T170945Z
UID:2503-1769500800-1801414800@nuetlab.com
SUMMARY:Food Talks: la comida te habla
DESCRIPTION:La comida te habla y en este nuevo espacio de Nuet Lab\, seguimos aprendiendo a escucharla. \nFood Talks es un espacio de encuentros breves donde hablamos de alimentos reales\, de cuáles son sus beneficios y cómo aprovecharlos en la cocina. \nPorque la comida no es solo lo que comemos. También es información. \nDe ahí la importancia de llevar una alimentación basada en ingredientes naturales y de temporada. ¡Eso es Food Talks! Aprender a tu ritmo\, integrando directamente lo aprendido en tus platos. \n¿Qué encontrarás en Food Talks? \nVídeos cortos (máximo 5 minutos) centrados en un alimento cada vez. Uno a uno\, sin prisa. En cada Food Talks exploramos: \n\nqué nos puede aportar ese alimento\,\ncómo se relaciona con el cuerpo\,\ncómo podemos cocinarlo\,\ncómo podemos conservarlo\,\ny curiosidades del alimento.\n\n100% practicidad desde una mirada integrativa\, educativa y no prescriptiva. Para que explores\, juegues y conozcas más sobre tus gustos. \n💌 Recibe Food Talks directamente en tu email \nSi sientes que tu cuerpo te habla…\neste espacio es para ti. \nÚnete a  Food Talks a través de este link. \nLa comida te habla.\nSeguimos aprendiendo a escucharla.
URL:https://nuetlab.com/agenda/food-talks-la-comida-te-habla/
LOCATION:Online
CATEGORIES:Comunidad
ATTACH;FMTTYPE=image/png:https://nuetlab.com/wp-content/uploads/2026/01/2.png
ORGANIZER;CN="Nuet Lab":MAILTO:nuetlab@gmail.com
END:VEVENT
BEGIN:VEVENT
DTSTART;TZID=Europe/Madrid:20260209T060000
DTEND;TZID=Europe/Madrid:20260301T230000
DTSTAMP:20260422T171840
CREATED:20260129T083929Z
LAST-MODIFIED:20260129T093404Z
UID:2511-1770616800-1772406000@nuetlab.com
SUMMARY:RETO 21 DÍAS para entender las señales del cuerpo
DESCRIPTION:📅 Del 9 de febrero al 1 de marzo\n🌐 Modalidad: Online – recibirás un email cada mañana \nEl cuerpo habla constantemente.\nA través del hambre\, el cansancio\, la digestión\, la energía\, el descanso o el estado de ánimo. \nPero en el día a día solemos ir deprisa\, interpretarlo todo como “normal” o aprender a callarlo en lugar de escucharlo. \nEste reto nace para acompañarte durante 21 días en un proceso de observación y comprensión del cuerpo\, sin exigencia y sin prisas. A fuego lento y a través de la observación. Con el gran objetivo de comprenderte mejor. \n🌱 ¿En qué consiste este reto? \nDurante 21 días recibirás cada mañana en tu email una propuesta sencilla y realista para integrar en tu día a día. \nPodrá ser: \n\nuna invitación a observar una señal del cuerpo\,\nuna reflexión sobre hambre\, energía o cansancio\,\nuna práctica breve de autocuidado\,\nuna pauta de nutrición consciente\,\nuna propuesta para regular el ritmo y el descanso.\n\n✨ ¿Por qué 21 días? \nPorque es un tiempo suficiente para: \n\nentrenar la observación\,\nempezar a reconocer patrones\,\nganar claridad\,\ncrear un nuevo diálogo con tu cuerpo.\n\nNo se trata de cambiarlo todo\, sino de aprender a leer lo que ya está ocurriendo. \n¿Por qué en invierno? \nEl invierno es una estación que nos invita al recogimiento\, al descanso y a bajar el ritmo. \nEs un momento en el que el cuerpo suele hablar más alto: aparece el cansancio\, cambia el apetito\, se altera el descanso o baja la energía. \nLejos de ser un problema\, el invierno es una oportunidad para escuchar con más atención. \nEste reto se sitúa en este momento del año para acompañarte a: \n\ncomprender las señales del cuerpo sin luchar contra ellas\,\nrespetar los ritmos naturales\,\nsostenerte con más conciencia durante los meses de mayor exigencia interna.\n\nEntender lo que el cuerpo expresa en invierno es una forma profunda de cuidado. \n📩 Cómo funciona \n\nDel 9 de febrero al 1 de marzo de 2026\nAntes de empezar recibirás un email con instrucciones sencillas\nCada día recibirás un correo con una propuesta práctica y reflexiva\nNo necesitas conocimientos previos\nNo requiere mucho tiempo\, solo curiosidad y ganas de observar.\nAportación: 26€. Una pequeña inversión para dedicarte atención\, escucha y cuidado durante tres semanas.\n👉 ¿Te unes al reto?\n\nAccede aquí a la página de inscripción. ¡Te veo dentro!
URL:https://nuetlab.com/agenda/reto-21-dias-para-entender-las-senales-del-cuerpo/
LOCATION:Online
CATEGORIES:Reto
ATTACH;FMTTYPE=image/png:https://nuetlab.com/wp-content/uploads/2026/01/RETO-senales-del-cuerpo.png
ORGANIZER;CN="Nuet Lab":MAILTO:nuetlab@gmail.com
END:VEVENT
BEGIN:VEVENT
DTSTART;TZID=Europe/Madrid:20260516T090000
DTEND;TZID=Europe/Madrid:20260516T120000
DTSTAMP:20260422T171840
CREATED:20260421T171839Z
LAST-MODIFIED:20260421T171839Z
UID:2526-1778922000-1778932800@nuetlab.com
SUMMARY:Pilates & Brunch · Volver al cuerpo
DESCRIPTION:Encuentro de Pilates & Comida Natural en el Río Turia\nVolvemos con uno de esos planes que siempre apetece repetir. \nUn encuentro para moverte\, comer bien y compartir un rato al aire libre. \nEmpezaremos con una sesión de pilates accesible para todos los niveles\, pensada para activar el cuerpo sin exigencia y conectar con él desde un lugar más amable. \nDespués\, compartiremos un brunch con comida real\, en un entorno cuidado y tranquilo y aprenderemos sobre los ingredientes que tenemos sobre la mesa. \nEs más que una clase y una comida.\nEs una forma sencilla de parar\, moverte y salir sintiéndote mejor. \nPlazas limitadas. Necesario reservar con antelación. \n\nFecha: Sábado 16 de mayo\nHorario: 09:00 – 12:00\nLugar: Jardín del Turia.\nAportación: 35€\nIncluye: clase de pilates + brunch\n\nReserva tu plaza por WhatsApp: 650 48 13 05. \nVen a moverte\, respirar\, y recargar tu energía en un entorno natural y relajado. \n¡Únete a este espacio de inspiración saludable 🌿! En Nuet Lab seguimos proponiendo talleres y encuentros para que profundices más en tu salud y bienestar desde un enfoque integrativo.
URL:https://nuetlab.com/agenda/pilates-brunch-valencia/
LOCATION:Rio Turia\, Valencia\, Valencia\, Spain
CATEGORIES:Taller
ATTACH;FMTTYPE=image/png:https://nuetlab.com/wp-content/uploads/2026/04/PilatesBrunch-def2-1-e1776791911904.png
ORGANIZER;CN="Nuet Lab":MAILTO:nuetlab@gmail.com
END:VEVENT
BEGIN:VEVENT
DTSTART;TZID=Europe/Madrid:20260524T103000
DTEND;TZID=Europe/Madrid:20260524T130000
DTSTAMP:20260422T171840
CREATED:20260421T180100Z
LAST-MODIFIED:20260421T180101Z
UID:2530-1779618600-1779627600@nuetlab.com
SUMMARY:Saborear el color · Nutrición y acuarela
DESCRIPTION:Un encuentro donde observar\, probar y transformar lo que sentimos en algo tangible.\nEn este taller partiremos de algo sencillo: los alimentos\, concretamente de las frutas y cómo se comportan a través de los pigmentos\, las texturas\, incluso el sabor. \nLas probaremos\, las observaremos y nos detendremos en lo que despierta: las sensaciones en el cuerpo. Desde ahí\, llevaremos esa experiencia al papel a través de la acuarela\, sin necesidad de experiencia previa. \nVamos a experimentar.\nY a abrir otra forma de relación con la comida\, más atenta y más sensorial. \nUn espacio para parar\, crear y salir con algo hecho por ti. \n¿A quién va dirigido? A cualquier persona con curiosidad por explorar la relación con los alimentos desde un enfoque creativo y sensorial.No es necesario saber dibujar ni tener experiencia previa. \n\nFecha: Domingo 24 de mayo\nHorario: 10:30 – 13:00 hrs.\nLugar: Espacio Olivita.\nAportación: 45€\nIncluye: brunch + materiales de acuarela.\n\nPlazas reducidas. \nSi te apetece venir\, puedes reservar tu plaza en Espacio Olivita. \n¡Únete a este espacio de inspiración saludable 🌿! En Nuet Lab seguimos proponiendo talleres y encuentros para que profundices más en tu salud y bienestar desde un enfoque integrativo. \n 
URL:https://nuetlab.com/agenda/taller-acuarela-nutricion-valencia/
LOCATION:Espacio Olivita\, C/ de la Fusta\, 63\, Valencia\, Valencia\, 46022\, Spain
CATEGORIES:Taller
ATTACH;FMTTYPE=image/jpeg:https://nuetlab.com/wp-content/uploads/2026/04/IMG-20260411-WA0004-e1776794416491.jpg
ORGANIZER;CN="Nuet Lab":MAILTO:nuetlab@gmail.com
END:VEVENT
END:VCALENDAR